BEGIN:VCALENDAR
VERSION:2.0
PRODID:-//jEvents 2.0 for Joomla//EN
CALSCALE:GREGORIAN
METHOD:PUBLISH
BEGIN:VEVENT
UID:9b5a7d8b913d100eabfd40e07e19c967
CATEGORIES:Veranstaltungen
CREATED:20230111T094009
SUMMARY:Noteneintragung 2.Semester
DESCRIPTION:
DTSTAMP:20260425T203944
DTSTART:20230629T060000
DTEND:20230629T160000
SEQUENCE:0
TRANSP:OPAQUE
END:VEVENT
END:VCALENDAR