BEGIN:VCALENDAR
VERSION:2.0
PRODID:-//jEvents 2.0 for Joomla//EN
CALSCALE:GREGORIAN
METHOD:PUBLISH
BEGIN:VEVENT
UID:c74d18b3b4fa22dd5bfee5b9ac2c4b3b
CATEGORIES:Veranstaltungen
CREATED:20230111T093324
SUMMARY:Konferenz der PrüferInnen RDP 5wb
DESCRIPTION:
DTSTAMP:20260425T185514
DTSTART:20230517T143000
DTEND:20230517T150000
SEQUENCE:0
TRANSP:OPAQUE
END:VEVENT
END:VCALENDAR