BEGIN:VCALENDAR
VERSION:2.0
PRODID:-//jEvents 2.0 for Joomla//EN
CALSCALE:GREGORIAN
METHOD:PUBLISH
BEGIN:VEVENT
UID:8a4e37ed221341531634e02880d2abb4
CATEGORIES:Veranstaltungen
CREATED:20230110T083315
SUMMARY:Klassenkonferenz
DESCRIPTION:
DTSTAMP:20260425T204644
DTSTART:20230630T100000
DTEND:20230630T150000
SEQUENCE:0
TRANSP:OPAQUE
END:VEVENT
END:VCALENDAR