BEGIN:VCALENDAR
VERSION:2.0
PRODID:-//jEvents 2.0 for Joomla//EN
CALSCALE:GREGORIAN
METHOD:PUBLISH
BEGIN:VEVENT
UID:5a569a17f567a56564db7b477cfe8257
CATEGORIES:Veranstaltungen
CREATED:20230110T083237
SUMMARY:Notenschluss 2.Semester
DESCRIPTION:
DTSTAMP:20260425T204649
DTSTART:20230629T060000
DTEND:20230629T120000
SEQUENCE:0
TRANSP:OPAQUE
END:VEVENT
END:VCALENDAR