BEGIN:VCALENDAR
VERSION:2.0
PRODID:-//jEvents 2.0 for Joomla//EN
CALSCALE:GREGORIAN
METHOD:PUBLISH
BEGIN:VEVENT
UID:62d40bcf10c7b65054192e654b19fe16
CATEGORIES:Veranstaltungen
CREATED:20230110T083119
SUMMARY:praktische Prüfungen 4wb
DESCRIPTION:
DTSTAMP:20260425T203350
DTSTART:20230522T060000
DTEND:20230524T160000
SEQUENCE:0
TRANSP:OPAQUE
END:VEVENT
END:VCALENDAR