BEGIN:VCALENDAR
VERSION:2.0
PRODID:-//jEvents 2.0 for Joomla//EN
CALSCALE:GREGORIAN
METHOD:PUBLISH
BEGIN:VEVENT
UID:b0fee4c28c3f79444c7cce98fc6121f8
CATEGORIES:Veranstaltungen
CREATED:20230110T082959
SUMMARY:letzter Schultag 3wa und 3wb
DESCRIPTION:
DTSTAMP:20260425T185256
DTSTART:20230531T060000
DTEND:20230531T100000
SEQUENCE:0
TRANSP:OPAQUE
END:VEVENT
END:VCALENDAR