BEGIN:VCALENDAR
VERSION:2.0
PRODID:-//jEvents 2.0 for Joomla//EN
CALSCALE:GREGORIAN
METHOD:PUBLISH
BEGIN:VEVENT
UID:076657b923d86f5e9d912be4ea03f891
CATEGORIES:Veranstaltungen
CREATED:20230110T082931
SUMMARY:Klassenkonferenz 3wb
DESCRIPTION:
DTSTAMP:20260425T203339
DTSTART:20230524T124500
DTEND:20230524T130000
SEQUENCE:0
TRANSP:OPAQUE
END:VEVENT
END:VCALENDAR