BEGIN:VCALENDAR
VERSION:2.0
PRODID:-//jEvents 2.0 for Joomla//EN
CALSCALE:GREGORIAN
METHOD:PUBLISH
BEGIN:VEVENT
UID:f86b8d7123a9d11fdd083cb957e8c84c
CATEGORIES:Veranstaltungen
CREATED:20230110T082859
SUMMARY:Klassenkonferenz 3wa
DESCRIPTION:
DTSTAMP:20260425T185310
DTSTART:20230524T121500
DTEND:20230524T123000
SEQUENCE:0
TRANSP:OPAQUE
END:VEVENT
END:VCALENDAR