BEGIN:VCALENDAR
VERSION:2.0
PRODID:-//jEvents 2.0 for Joomla//EN
CALSCALE:GREGORIAN
METHOD:PUBLISH
BEGIN:VEVENT
UID:b5a1c54ac220762da9e0a995334b7af3
CATEGORIES:Veranstaltungen
CREATED:20230110T082806
SUMMARY:Notenschluss und Noteneintrag 3wa/3wb
DESCRIPTION:
DTSTAMP:20260425T204044
DTSTART:20230524T060000
DTEND:20230524T100000
SEQUENCE:0
TRANSP:OPAQUE
END:VEVENT
END:VCALENDAR