BEGIN:VCALENDAR
VERSION:2.0
PRODID:-//jEvents 2.0 for Joomla//EN
CALSCALE:GREGORIAN
METHOD:PUBLISH
BEGIN:VEVENT
UID:4be63f0834bd0fb38b32090c324841a7
CATEGORIES:Veranstaltungen
CREATED:20230109T155508
SUMMARY:mündliche Reife- und Diplomprüfungen 5wa
DESCRIPTION:
DTSTAMP:20260425T203915
DTSTART:20230615T060000
DTEND:20230616T150000
SEQUENCE:0
TRANSP:OPAQUE
END:VEVENT
END:VCALENDAR