BEGIN:VCALENDAR
VERSION:2.0
PRODID:-//jEvents 2.0 for Joomla//EN
CALSCALE:GREGORIAN
METHOD:PUBLISH
BEGIN:VEVENT
UID:f635a97372bfd062cbde87be40118ae6
CATEGORIES:Veranstaltungen
CREATED:20230109T155427
SUMMARY:mündliche Reife- und Diplomprüfungen 5a
DESCRIPTION:
DTSTAMP:20260425T204043
DTSTART:20230612T060000
DTEND:20230613T150000
SEQUENCE:0
TRANSP:OPAQUE
END:VEVENT
END:VCALENDAR