BEGIN:VCALENDAR
VERSION:2.0
PRODID:-//jEvents 2.0 for Joomla//EN
CALSCALE:GREGORIAN
METHOD:PUBLISH
BEGIN:VEVENT
UID:f8791fe9a73d826d0633a649789ed912
CATEGORIES:Veranstaltungen
CREATED:20230109T155321
SUMMARY:Abgabe mündliche Aufgaben RDP 5w
DESCRIPTION:
DTSTAMP:20260425T204157
DTSTART:20230607T060000
DTEND:20230607T100000
SEQUENCE:0
TRANSP:OPAQUE
END:VEVENT
END:VCALENDAR