BEGIN:VCALENDAR
VERSION:2.0
PRODID:-//jEvents 2.0 for Joomla//EN
CALSCALE:GREGORIAN
METHOD:PUBLISH
BEGIN:VEVENT
UID:28f4bde602d57fb908302bd68052e589
CATEGORIES:Veranstaltungen
CREATED:20230109T155245
SUMMARY:Abgabe mündliche Aufgaben RDP 5a
DESCRIPTION:
DTSTAMP:20260425T203915
DTSTART:20230606T060000
DTEND:20230606T100000
SEQUENCE:0
TRANSP:OPAQUE
END:VEVENT
END:VCALENDAR