BEGIN:VCALENDAR
VERSION:2.0
PRODID:-//jEvents 2.0 for Joomla//EN
CALSCALE:GREGORIAN
METHOD:PUBLISH
BEGIN:VEVENT
UID:c850155e5344ad0481c632e2b786d82f
CATEGORIES:Veranstaltungen
CREATED:20230109T155210
SUMMARY:Kompensationsprüfungen
DESCRIPTION:
DTSTAMP:20260425T202942
DTSTART:20230531T060000
DTEND:20230531T120000
SEQUENCE:0
TRANSP:OPAQUE
END:VEVENT
END:VCALENDAR