BEGIN:VCALENDAR
VERSION:2.0
PRODID:-//jEvents 2.0 for Joomla//EN
CALSCALE:GREGORIAN
METHOD:PUBLISH
BEGIN:VEVENT
UID:62a891c56b0e5ab9d4303d392e34654b
CATEGORIES:Veranstaltungen
CREATED:20230109T155129
SUMMARY:Konferenz der PrüferInnen RDP 5wa
DESCRIPTION:
DTSTAMP:20260425T204250
DTSTART:20230517T133000
DTEND:20230517T140000
SEQUENCE:0
TRANSP:OPAQUE
END:VEVENT
END:VCALENDAR