BEGIN:VCALENDAR
VERSION:2.0
PRODID:-//jEvents 2.0 for Joomla//EN
CALSCALE:GREGORIAN
METHOD:PUBLISH
BEGIN:VEVENT
UID:44dd08ddacf637fd011e058da62f517a
CATEGORIES:Veranstaltungen
CREATED:20230109T155047
SUMMARY:Konferenz der PrüferInnen RDP 5a
DESCRIPTION:
DTSTAMP:20260425T185320
DTSTART:20230517T123000
DTEND:20230517T130000
SEQUENCE:0
TRANSP:OPAQUE
END:VEVENT
END:VCALENDAR