BEGIN:VCALENDAR
VERSION:2.0
PRODID:-//jEvents 2.0 for Joomla//EN
CALSCALE:GREGORIAN
METHOD:PUBLISH
BEGIN:VEVENT
UID:3eff3d46078ec6cb5e8c8f9f7e204bb9
CATEGORIES:Veranstaltungen
CREATED:20230109T154951
SUMMARY:Abgabe korrigierter Arbeiten 5a und 5w
DESCRIPTION:
DTSTAMP:20260425T185640
DTSTART:20230515T060000
DTEND:20230515T100000
SEQUENCE:0
TRANSP:OPAQUE
END:VEVENT
END:VCALENDAR