BEGIN:VCALENDAR
VERSION:2.0
PRODID:-//jEvents 2.0 for Joomla//EN
CALSCALE:GREGORIAN
METHOD:PUBLISH
BEGIN:VEVENT
UID:79109be6f481f98fa9f4ff7d454476de
CATEGORIES:Veranstaltungen
CREATED:20230109T154852
SUMMARY:schriftliche RDP BFK/BWRW
DESCRIPTION:
DTSTAMP:20260425T190552
DTSTART:20230502T060000
DTEND:20230502T120000
SEQUENCE:0
TRANSP:OPAQUE
END:VEVENT
END:VCALENDAR