BEGIN:VCALENDAR
VERSION:2.0
PRODID:-//jEvents 2.0 for Joomla//EN
CALSCALE:GREGORIAN
METHOD:PUBLISH
BEGIN:VEVENT
UID:525f5fd4b22eee2df60dac7aa5deed4e
CATEGORIES:Veranstaltungen
CREATED:20230109T154815
SUMMARY:letzter Schultag 5a und 5w
DESCRIPTION:
DTSTAMP:20260425T171116
DTSTART:20230428T060000
DTEND:20230428T100000
SEQUENCE:0
TRANSP:OPAQUE
END:VEVENT
END:VCALENDAR