BEGIN:VCALENDAR
VERSION:2.0
PRODID:-//jEvents 2.0 for Joomla//EN
CALSCALE:GREGORIAN
METHOD:PUBLISH
BEGIN:VEVENT
UID:a9a3e09b8a2589ebe25c7e428ef656cb
CATEGORIES:Veranstaltungen
CREATED:20230109T154735
SUMMARY:Wiederholungsprüfungen 5a und 5w
DESCRIPTION:
DTSTAMP:20260425T171448
DTSTART:20230426T060000
DTEND:20230426T120000
SEQUENCE:0
TRANSP:OPAQUE
END:VEVENT
END:VCALENDAR