BEGIN:VCALENDAR
VERSION:2.0
PRODID:-//jEvents 2.0 for Joomla//EN
CALSCALE:GREGORIAN
METHOD:PUBLISH
BEGIN:VEVENT
UID:49a0d2c6b37e4e49dd4c279ba733c2a4
CATEGORIES:Veranstaltungen
CREATED:20230109T154703
SUMMARY:Coachingtage 5a und 5w
DESCRIPTION:
DTSTAMP:20260425T171503
DTSTART:20230424T060000
DTEND:20230427T120000
SEQUENCE:0
TRANSP:OPAQUE
END:VEVENT
END:VCALENDAR