BEGIN:VCALENDAR
VERSION:2.0
PRODID:-//jEvents 2.0 for Joomla//EN
CALSCALE:GREGORIAN
METHOD:PUBLISH
BEGIN:VEVENT
UID:fb0f9f6ee95a3e65260201adf3ebdcba
CATEGORIES:Veranstaltungen
CREATED:20230109T154545
SUMMARY:Klassenkonferenz 5w
DESCRIPTION:
DTSTAMP:20260425T171446
DTSTART:20230419T130000
DTEND:20230419T133000
SEQUENCE:0
TRANSP:OPAQUE
END:VEVENT
END:VCALENDAR