BEGIN:VCALENDAR
VERSION:2.0
PRODID:-//jEvents 2.0 for Joomla//EN
CALSCALE:GREGORIAN
METHOD:PUBLISH
BEGIN:VEVENT
UID:83eed716b60ea77c33e5476f2d2d75b6
CATEGORIES:Veranstaltungen
CREATED:20230109T154311
SUMMARY:Klassenkonferenz 5a
DESCRIPTION:
DTSTAMP:20260425T171413
DTSTART:20230419T121500
DTEND:20230419T123000
SEQUENCE:0
TRANSP:OPAQUE
END:VEVENT
END:VCALENDAR