BEGIN:VCALENDAR
VERSION:2.0
PRODID:-//jEvents 2.0 for Joomla//EN
CALSCALE:GREGORIAN
METHOD:PUBLISH
BEGIN:VEVENT
UID:d6eb70b0c39fe7a48a4f15f097af66cb
CATEGORIES:Veranstaltungen
CREATED:20230109T152803
SUMMARY:Notenschluss und Noteneintrag 5a und 5w
DESCRIPTION:
DTSTAMP:20260425T171149
DTSTART:20230419T060000
DTEND:20230419T100000
SEQUENCE:0
TRANSP:OPAQUE
END:VEVENT
END:VCALENDAR