BEGIN:VCALENDAR
VERSION:2.0
PRODID:-//jEvents 2.0 for Joomla//EN
CALSCALE:GREGORIAN
METHOD:PUBLISH
BEGIN:VEVENT
UID:49de828e87448c8a1ff7969cb6e48534
CATEGORIES:Veranstaltungen
CREATED:20230109T152701
SUMMARY:Präsentationen Diplomarbeiten 5a
DESCRIPTION:
DTSTAMP:20260425T204252
DTSTART:20230315T070000
DTEND:20230315T160000
SEQUENCE:0
TRANSP:OPAQUE
END:VEVENT
END:VCALENDAR