BEGIN:VCALENDAR
VERSION:2.0
PRODID:-//jEvents 2.0 for Joomla//EN
CALSCALE:GREGORIAN
METHOD:PUBLISH
BEGIN:VEVENT
UID:3cb472eb71e9e5d1383772460c8ded0e
CATEGORIES:Veranstaltungen
CREATED:20230109T152550
SUMMARY:Präsentationen Diplomarbeiten 5w
DESCRIPTION:
DTSTAMP:20260425T185310
DTSTART:20230314T070000
DTEND:20230314T160000
SEQUENCE:0
TRANSP:OPAQUE
END:VEVENT
END:VCALENDAR