BEGIN:VCALENDAR
VERSION:2.0
PRODID:-//jEvents 2.0 for Joomla//EN
CALSCALE:GREGORIAN
METHOD:PUBLISH
BEGIN:VEVENT
UID:0187ada1cf56e0c5500968d8de514b1c
CATEGORIES:Veranstaltungen
CREATED:20230109T113751
SUMMARY:Verteilung der Schulnachrichten
DESCRIPTION:
DTSTAMP:20260425T153719
DTSTART:20230210T070000
DTEND:20230210T110000
SEQUENCE:0
TRANSP:OPAQUE
END:VEVENT
END:VCALENDAR