BEGIN:VCALENDAR
VERSION:2.0
PRODID:-//jEvents 2.0 for Joomla//EN
CALSCALE:GREGORIAN
METHOD:PUBLISH
BEGIN:VEVENT
UID:efa1154f0d1c2dd14ee3a01138939675
CATEGORIES:Veranstaltungen
CREATED:20230109T113631
SUMMARY:Semesterkonferenz
DESCRIPTION:
DTSTAMP:20260425T152702
DTSTART:20230207T130000
DTEND:20230207T160000
SEQUENCE:0
TRANSP:OPAQUE
END:VEVENT
END:VCALENDAR