BEGIN:VCALENDAR
VERSION:2.0
PRODID:-//jEvents 2.0 for Joomla//EN
CALSCALE:GREGORIAN
METHOD:PUBLISH
BEGIN:VEVENT
UID:41d598ce930c24b8e1431102d90cfa53
CATEGORIES:Veranstaltungen
CREATED:20230109T113600
SUMMARY:Notenschluss 1.Semester
DESCRIPTION:
DTSTAMP:20260425T154505
DTSTART:20230206T070000
DTEND:20230206T130000
SEQUENCE:0
TRANSP:OPAQUE
END:VEVENT
END:VCALENDAR