BEGIN:VCALENDAR
VERSION:2.0
PRODID:-//jEvents 2.0 for Joomla//EN
CALSCALE:GREGORIAN
METHOD:PUBLISH
BEGIN:VEVENT
UID:395308711e694e6e90d7f91510a7aa2f
CATEGORIES:Veranstaltungen
CREATED:20221205T081816
SUMMARY:Bewerbungsseminar 3.HTL
DESCRIPTION:
DTSTAMP:20260425T185457
DTSTART:20221216T133000
DTEND:20221216T160000
SEQUENCE:0
TRANSP:OPAQUE
END:VEVENT
END:VCALENDAR