BEGIN:VCALENDAR
VERSION:2.0
PRODID:-//jEvents 2.0 for Joomla//EN
CALSCALE:GREGORIAN
METHOD:PUBLISH
BEGIN:VEVENT
UID:a4fa332ea40ea80a3b29484e296e00ef
CATEGORIES:Veranstaltungen
CREATED:20221205T081750
SUMMARY:Workshop Polizei 2.HTLb
DESCRIPTION:
DTSTAMP:20260425T204527
DTSTART:20221214T095500
DTEND:20221214T123500
SEQUENCE:0
TRANSP:OPAQUE
END:VEVENT
END:VCALENDAR