BEGIN:VCALENDAR
VERSION:2.0
PRODID:-//jEvents 2.0 for Joomla//EN
CALSCALE:GREGORIAN
METHOD:PUBLISH
BEGIN:VEVENT
UID:f1b0c2d570f2628f9d229bb1120f4ea5
CATEGORIES:Veranstaltungen
CREATED:20221205T081659
SUMMARY:Exkursion zum Bezirkgsgericht Reutte 5wa und 5wb
DESCRIPTION:
DTSTAMP:20260425T190649
DTSTART:20221213T075500
DTEND:20221213T114000
SEQUENCE:0
TRANSP:OPAQUE
END:VEVENT
END:VCALENDAR