BEGIN:VCALENDAR
VERSION:2.0
PRODID:-//jEvents 2.0 for Joomla//EN
CALSCALE:GREGORIAN
METHOD:PUBLISH
BEGIN:VEVENT
UID:bb9f28ecf1676a662a0b2aeebd4bca52
CATEGORIES:Veranstaltungen
CREATED:20221205T081555
SUMMARY:Bewerbungsseminar 3wb
DESCRIPTION:
DTSTAMP:20260425T204153
DTSTART:20221215T123000
DTEND:20221215T160000
SEQUENCE:0
TRANSP:OPAQUE
END:VEVENT
END:VCALENDAR