BEGIN:VCALENDAR
VERSION:2.0
PRODID:-//jEvents 2.0 for Joomla//EN
CALSCALE:GREGORIAN
METHOD:PUBLISH
BEGIN:VEVENT
UID:03590caa608f098d52fa03ce09485d87
CATEGORIES:Veranstaltungen
CREATED:20221205T081521
SUMMARY:Bewerbungsseminar 3wa
DESCRIPTION:
DTSTAMP:20260425T185255
DTSTART:20221212T123000
DTEND:20221212T160000
SEQUENCE:0
TRANSP:OPAQUE
END:VEVENT
END:VCALENDAR