BEGIN:VCALENDAR
VERSION:2.0
PRODID:-//jEvents 2.0 for Joomla//EN
CALSCALE:GREGORIAN
METHOD:PUBLISH
BEGIN:VEVENT
UID:1e18491e9a1c65dda8fdc005cb4dcf78
CATEGORIES:Veranstaltungen
CREATED:20221205T081452
SUMMARY:Infoveranstaltung für Reife- und Diplomprüfung 5wa und 5wb
DESCRIPTION:
DTSTAMP:20260425T185318
DTSTART:20221206T095500
DTEND:20221206T104500
SEQUENCE:0
TRANSP:OPAQUE
END:VEVENT
END:VCALENDAR