BEGIN:VCALENDAR
VERSION:2.0
PRODID:-//jEvents 2.0 for Joomla//EN
CALSCALE:GREGORIAN
METHOD:PUBLISH
BEGIN:VEVENT
UID:0d5654edb6f37c45e8edd0e03df6c729
CATEGORIES:Veranstaltungen
CREATED:20221205T081411
SUMMARY:Infoveranstaltung zur Reife- und Diplomprüfung 5a
DESCRIPTION:
DTSTAMP:20260425T185457
DTSTART:20221206T085000
DTEND:20221206T094000
SEQUENCE:0
TRANSP:OPAQUE
END:VEVENT
END:VCALENDAR