BEGIN:VCALENDAR
VERSION:2.0
PRODID:-//jEvents 2.0 for Joomla//EN
CALSCALE:GREGORIAN
METHOD:PUBLISH
BEGIN:VEVENT
UID:0b6b4a3184007e44d9df94f17b0e6dba
CATEGORIES:Veranstaltungen
CREATED:20221129T111758
SUMMARY:Sommersportwoche der 2.Klassen HAK und HTL
DESCRIPTION:
DTSTAMP:20260425T203947
DTSTART:20230626T060000
DTEND:20230630T150000
SEQUENCE:0
TRANSP:OPAQUE
END:VEVENT
END:VCALENDAR