BEGIN:VCALENDAR
VERSION:2.0
PRODID:-//jEvents 2.0 for Joomla//EN
CALSCALE:GREGORIAN
METHOD:PUBLISH
BEGIN:VEVENT
UID:4d6b067cc50530035759c3ec92571308
CATEGORIES:Veranstaltungen
CREATED:20221129T111708
SUMMARY:Sommersportwoche 2.Klassen HLW
DESCRIPTION:
DTSTAMP:20260425T234718
DTSTART:20230702T060000
DTEND:20230706T150000
SEQUENCE:0
TRANSP:OPAQUE
END:VEVENT
END:VCALENDAR