BEGIN:VCALENDAR
VERSION:2.0
PRODID:-//jEvents 2.0 for Joomla//EN
CALSCALE:GREGORIAN
METHOD:PUBLISH
BEGIN:VEVENT
UID:1c55f3d43a5c2cb2087bf976e60bf334
CATEGORIES:Veranstaltungen
CREATED:20221128T130502
SUMMARY:Sprachreise San Remo 4.Klassen
DESCRIPTION:
DTSTAMP:20260425T204254
DTSTART:20230604T060000
DTEND:20230609T150000
SEQUENCE:0
TRANSP:OPAQUE
END:VEVENT
END:VCALENDAR