BEGIN:VCALENDAR
VERSION:2.0
PRODID:-//jEvents 2.0 for Joomla//EN
CALSCALE:GREGORIAN
METHOD:PUBLISH
BEGIN:VEVENT
UID:b5a42e3a75ac3a05c6647a0dba5fbf9e
CATEGORIES:Veranstaltungen
CREATED:20221108T093326
SUMMARY:2.pädagogische Konferenz
DESCRIPTION:
DTSTAMP:20260425T185640
DTSTART:20221222T150000
DTEND:20221222T170000
SEQUENCE:0
TRANSP:OPAQUE
END:VEVENT
END:VCALENDAR