BEGIN:VCALENDAR
VERSION:2.0
PRODID:-//jEvents 2.0 for Joomla//EN
CALSCALE:GREGORIAN
METHOD:PUBLISH
BEGIN:VEVENT
UID:9fdb31a0311aed575bc6be9dfc1e6102
CATEGORIES:Veranstaltungen
CREATED:20221104T093037
SUMMARY:Kiwiprojekt der Klasse 4a in der Wirtschaftskammer Reutte
DESCRIPTION:
DTSTAMP:20260425T203945
DTSTART:20221115T070000
DTEND:20221115T130000
SEQUENCE:0
TRANSP:OPAQUE
END:VEVENT
END:VCALENDAR