BEGIN:VCALENDAR
VERSION:2.0
PRODID:-//jEvents 2.0 for Joomla//EN
CALSCALE:GREGORIAN
METHOD:PUBLISH
BEGIN:VEVENT
UID:6f6b8d748aa4d923652e8de3a5c768de
CATEGORIES:Veranstaltungen
CREATED:20221024T110613
SUMMARY:Schulbeginn Schuljahr 2023/24
DESCRIPTION:
DTSTAMP:20260425T234720
DTSTART:20230911T060000
DTEND:20230911T100000
SEQUENCE:0
TRANSP:OPAQUE
END:VEVENT
END:VCALENDAR