BEGIN:VCALENDAR
VERSION:2.0
PRODID:-//jEvents 2.0 for Joomla//EN
CALSCALE:GREGORIAN
METHOD:PUBLISH
BEGIN:VEVENT
UID:1dcb50784d7c34ae1be053de7f6620f5
CATEGORIES:Veranstaltungen
CREATED:20221024T110451
SUMMARY:Verteilung der Zeugnisse 
DESCRIPTION:
DTSTAMP:20260425T234840
DTSTART:20230707T060000
DTEND:20230707T090000
SEQUENCE:0
TRANSP:OPAQUE
END:VEVENT
END:VCALENDAR