BEGIN:VCALENDAR
VERSION:2.0
PRODID:-//jEvents 2.0 for Joomla//EN
CALSCALE:GREGORIAN
METHOD:PUBLISH
BEGIN:VEVENT
UID:35069424751e1bb3e495e94aed5013c3
CATEGORIES:Veranstaltungen
CREATED:20221024T110412
SUMMARY:Aufnahmeprüfungen für das Schuljahr 2023/24
DESCRIPTION:
DTSTAMP:20260425T235927
DTSTART:20230705T060000
DTEND:20230705T150000
SEQUENCE:0
TRANSP:OPAQUE
END:VEVENT
END:VCALENDAR