BEGIN:VCALENDAR
VERSION:2.0
PRODID:-//jEvents 2.0 for Joomla//EN
CALSCALE:GREGORIAN
METHOD:PUBLISH
BEGIN:VEVENT
UID:7e2f8540e76a7653744e9e21024e79ea
CATEGORIES:Veranstaltungen
CREATED:20221024T110334
SUMMARY:Tanzsommer im Kongresshaus in Innsbruck
DESCRIPTION:
DTSTAMP:20260425T203836
DTSTART:20230628T060000
DTEND:20230628T150000
SEQUENCE:0
TRANSP:OPAQUE
END:VEVENT
END:VCALENDAR