BEGIN:VCALENDAR
VERSION:2.0
PRODID:-//jEvents 2.0 for Joomla//EN
CALSCALE:GREGORIAN
METHOD:PUBLISH
BEGIN:VEVENT
UID:be0b9e786050c09eb52bc440306c1391
CATEGORIES:Veranstaltungen
CREATED:20221024T110221
SUMMARY:schriftliche RDP Italienisch
DESCRIPTION:
DTSTAMP:20260425T204248
DTSTART:20230511T060000
DTEND:20230511T120000
SEQUENCE:0
TRANSP:OPAQUE
END:VEVENT
END:VCALENDAR