BEGIN:VCALENDAR
VERSION:2.0
PRODID:-//jEvents 2.0 for Joomla//EN
CALSCALE:GREGORIAN
METHOD:PUBLISH
BEGIN:VEVENT
UID:3c2f11a772a5286b88baa539d85c8d9b
CATEGORIES:Veranstaltungen
CREATED:20221024T110144
SUMMARY:schriftliche RDP Französisch
DESCRIPTION:
DTSTAMP:20260425T185255
DTSTART:20230510T060000
DTEND:20230510T120000
SEQUENCE:0
TRANSP:OPAQUE
END:VEVENT
END:VCALENDAR