BEGIN:VCALENDAR
VERSION:2.0
PRODID:-//jEvents 2.0 for Joomla//EN
CALSCALE:GREGORIAN
METHOD:PUBLISH
BEGIN:VEVENT
UID:3f48f323bd28afe54af472a5997b91b2
CATEGORIES:Veranstaltungen
CREATED:20221024T110106
SUMMARY:schriftliche RDP Englisch
DESCRIPTION:
DTSTAMP:20260425T185251
DTSTART:20230509T060000
DTEND:20230509T120000
SEQUENCE:0
TRANSP:OPAQUE
END:VEVENT
END:VCALENDAR