BEGIN:VCALENDAR
VERSION:2.0
PRODID:-//jEvents 2.0 for Joomla//EN
CALSCALE:GREGORIAN
METHOD:PUBLISH
BEGIN:VEVENT
UID:b22b70f3d363fdad90194afa3deb61cb
CATEGORIES:Veranstaltungen
CREATED:20221024T110015
SUMMARY:schriftliche RDP Deutsch
DESCRIPTION:
DTSTAMP:20260425T203944
DTSTART:20230505T060000
DTEND:20230505T120000
SEQUENCE:0
TRANSP:OPAQUE
END:VEVENT
END:VCALENDAR