BEGIN:VCALENDAR
VERSION:2.0
PRODID:-//jEvents 2.0 for Joomla//EN
CALSCALE:GREGORIAN
METHOD:PUBLISH
BEGIN:VEVENT
UID:57572eb2efaf16808aafe5aab44dd912
CATEGORIES:Veranstaltungen
CREATED:20221024T105939
SUMMARY:schriftliche RDP Mathematik
DESCRIPTION:
DTSTAMP:20260425T204334
DTSTART:20230503T060000
DTEND:20230503T120000
SEQUENCE:0
TRANSP:OPAQUE
END:VEVENT
END:VCALENDAR